Workbook

Sheet 設計書（鑑） (金抜き)
A1: 設 計 書 | R1: 富士川町
A2: 課長 | G2: リーダー | K2: 審査 | O2: 設計 | R2: R8年度
B4: 事業名 | F4: =[1]入力シート!E4 -> 水道事業
B5: 工事場所 | F5: 富士川町 大久保 地内
B6: 工事名 | F6: 農道北田桑原線下水道工事に伴う配水管布設替工事(2工区)
B8: 設計額 | I8: 円 | J8: 変更設計額 | L8: 円 | N8: 精算額 | Q8: 円
A10: 工事概要 | C10: 第1号 配水管工事 | H10: 水道配水用ポリエチレン管 HPPEφ75 L=93.1m
H11: PE挿し口付ソフトシール仕切弁 φ75 7.5K 2基
C13: 第2号 仮設管工事 | H13: ポリエチレン二層管 PP（3回転用） φ50 L=81.1m，φ20 L=58.7m
C15: 第3号 給水管工事 | H15: サドル分水栓φ75×φ20 12箇所
C17: 第4号 交通誘導員 | H17: 交通誘導員 1式

Sheet E表
C2: ※ | E2: は文字及び数字を記入
D3: ↓工事名記入
D4: 農道北田桑原線下水道工事に伴う配水管布設替工事(2工区) | G4: =+" "&D4&" 設計書 " -> 農道北田桑原線下水道工事に伴う配水管布設替工事(2工区) 設計書
G6: 1 | I6: 工事計画概要 | K6: 別紙参照
D7: 役所名 → | E7: 富士川町上下水道課
D9: 初期頁 → | E9: 1
A10: 丸め単位 | E10: 変更前・変更後or設計時･精算時を
A11: 0 | B11: 円単位 | E11: 変更前･変更後を明記する･･･1
A12: 1 | B12: 十円単位 | E12: 設計時･精算時を明記する･･･2
A13: 2 | B13: 百円単位 | E13: ↓入力 明記しない･･･3 | F13: 1
A14: 3 | B14: 千円単位 | E14: 3 | M14: =IF($E$14=1,"変 更 前",IF($E$14=2,"設 計 時","")) | P14: =IF($E$14=1,"変 更 後",IF($E$14=2,"精 算 時",""))
A15: 4 | B15: 万円単位 | E15: ｱﾛｹｰｼｮﾝは? | F15: 2 | G15: 工 種 | I15: 名 称 | K15: 形 状 ・ 寸 法 | L15: 単位 | S15: 備 考
A16: 5 | B16: 十万円単位 | E16: 行う･･･1 | M16: 数 量 | N16: 単 価 | O16: 金 額 | P16: 数 量 | Q16: 単 価 | R16: 金 額 | Y16: 管材費
A17: 6 | B17: 百万円単位 | E17: ↓入力 行わない･･･2 | F17: 3 | Y17: 変更前 | Z17: 変更後
A18: 7 | B18: 一千万円単位 | E18: 2 | T18: 管材費 | U18: ( | W18: ) | Y18: =V18 -> 0
A19: 8 | B19: 一億円単位 | E19: 安全費区分は? | F19: 4 | I19: 配水管布設工事 | K19: φ75 | L19: 式 | M19: 1 | T19: 第1号内訳明細書
T20: 管材費 | U20: ( | W20: ) | Y20: =V20 -> 0
F21: 5 | I21: 仮設管布設工事 | K21: φ50，φ20，φ13 | L21: 式 | M21: 1 | T21: 第2号内訳明細書
A22: 9 | B22: 十億円単位 | E22: 安全費(Ａ)･･･1 | T22: 管材費 | U22: ( | W22: ) | Y22: =V22 -> 0
E23: ↓入力 安全費(Ｂ)･･･2 | F23: 6 | I23: 給水管工事 | K23: φ20 | L23: 式 | M23: 1 | T23: 第3号内訳明細書
C24: ↓入力 | E24: 2 | T24: 管材費 | U24: ( | W24: ) | Y24: =V24 -> 0
A25: 1 | B25: 共通仮設費 | D25: 円単位 | E25: 金額入り or 金額抜き | F25: 7 | I25: 交通誘導員 | L25: 式 | M25: 1 | T25: 第4号内訳明細書
A26: 2 | B26: 工事価格 | C26: 3 | D26: 円単位 | E26: 金額入り・・・１ | Y26: =V26 -> 0
A27: 3 | B27: 準備費(ｱﾛｹ) | D27: 円単位 | E27: ↓入力 金額抜き・・・２ | F27: 8
E28: 1 | Y28: =V28 -> 0
E29: 環境対策費は？ | F29: 9
E30: 見る・・・１ | Y30: =V30 -> 0
E31: ↓入力 見ない・・・２ | F31: 10
E32: 2 | Y32: =V32 -> 0
F33: 11
Y34: =V34 -> 0
F35: 12
F37: 13 | G37: 直接工事費 | T37: 資材費 | U37: ( | V37: =SUM(V18,V20,V22) -> 0 | W37: ) | Y37: =SUM(Y18:Y35) -> 0
F39: 14
I40: 共通仮設費
F41: 15 | G41: 共通仮設費 | I41: 率計算 | K41: 処分費は計上しない | L41: 式 | M41: 1
I42: 共通仮設費
F43: 16 | I43: 積上技術管理費 | L43: 式 | M43: 1 | T43: 積上技術管理費内訳明細書
E44: 頁 | T44: =+"【"&+$E$7&"】" -> 【富士川町上下水道課】
E45: =+E9+1 -> 2 | G45: =IF(E9>9,"（ "&DBCS(FIXED(E9,0))&" ）","（ "&DBCS(FIXED(E9,0))&" ）") -> （ １ ）
M52: =IF($E$14=1,"変 更 前",IF($E$14=2,"設 計 時","")) | P52: =IF($E$14=1,"変 更 後",IF($E$14=2,"精 算 時",""))
G53: 工 種 | I53: 名 称 | K53: 形 状 ・ 寸 法 | L53: 単位 | S53: 備 考
M54: 数 量 | N54: 単 価 | O54: 金 額 | P54: 数 量 | Q54: 単 価 | R54: 金 額
F57: 1 | I57: 共通仮設費計
F59: 2 | G59: 純工事費
F61: 3 | I61: 現場管理費 | K61: 処分費は計上しない | L61: 式 | M61: 1
F63: 4 | G63: 工事原価
F65: 5 | I65: 一般管理費 | K65: 処分費は計上しない | L65: 式 | M65: 1
F67: 6 | I67: 契約保証費 | L67: 式 | M67: 1
F69: 7 | G69: 工事価格
F71: 8 | I71: 消費税相当額 | L71: 式 | M71: 1
F73: 9 | G73: 本工事費
F75: 10
F77: 11
F79: 12
F81: 13
F83: 14
F85: 15
F87: 16
T88: =+"【"&+$E$7&"】" -> 【富士川町上下水道課】
G89: =IF(E45>9,"（ "&DBCS(FIXED(E45,0))&" ）","（ "&DBCS(FIXED(E45,0))&" ）") -> （ ２ ）
B106: =+B62+1 -> 1

Sheet ①配水管布設工事75
A1: |
D2: ※印刷･･･70％
D3: ※余白･･･上 1.5 下 0.5 右 1.0 左 1.0
D4: ※水平・垂直･･･合わせる
D9: ↓ 内訳名称入力
D10: 配水管布設工事φ75
D12: =+" "&$D$10&" 内訳書 " -> 配水管布設工事φ75 内訳書
D14: =+"第 "&DBCS(FIXED(B16,0))&" 号内訳明細書" -> 第 １ 号内訳明細書
B15: 内訳番号 | O15: =+"Ｎｏ,"&DBCS(FIXED($B$16,0))&"－"&DBCS(FIXED(B17,0))&" " -> Ｎｏ,１－１
A16: 入力→ | B16: 1
A17: 入力→ | B17: 1 | I17: 変 更 前 | L17: 変 更 後 | P17: 一位
D18: 工 種 | E18: 名 称 | F18: 形 状 ・ 寸 法 | H18: 単位 | O18: 備 考 | P18: 代価
B19: 初期頁 | I19: 数 量 | J19: 単 価 | K19: 金 額 | L19: 数 量 | M19: 単 価 | N19: 金 額 | P19: 番号
A20: 入力→ | B20: 3
C22: 1 | D22: 資材
C24: 2 | E24: 配水用PE EF受口付片受直管 | G24: φ75×5000L | H24: 本 | I24: 13
C26: 3 | E26: 配水用PE プレーンエンド直管 | G26: φ75×5000L | H26: 本 | I26: 5
C28: 4 | E28: 配水用PE EFソケット | G28: φ75 | H28: 個 | I28: 5
C30: 5 | E30: 配水用PE EF両受チーズ | G30: φ75×φ75 | H30: 個 | I30: 1
C32: 6 | E32: 配水用PE EF両受ベンド | G32: φ75×45° | H32: 個 | I32: 3
C34: 7 | E34: 配水用PE EF両受ベンド | G34: φ75×22 1/2° | H34: 個 | I34: 5
C36: 8 | E36: 配水用PE EF片受ベンド | G36: φ75×45° | H36: 個 | I36: 1
C38: 9 | E38: 配水用PE EF片受ベンド | G38: φ75×22 1/2° | H38: 個 | I38: 1
C40: 9 | E40: 配水用PE EF両受Sベンド | G40: φ75×600H | H40: 個 | I40: 2
C42: 12 | E42: 配水用PE EF片受Sベンド | G42: φ75×300H | H42: 個 | I42: 2
C44: 10 | E44: PVジョイント | G44: φ75 | H44: 個 | I44: 1
C46: 8 | E46: PVジョイント片落菅 | G46: φ75×φ100 | H46: 個 | I46: 1
C48: 11 | E48: PE挿し口付ソフトシール仕切弁 | G48: φ75 | H48: 基 | I48: 2
G49: ねじ式弁筐
C50: 15 | E50: 仕切弁筐 | G50: DP=0.90m用 | H50: 組 | I50: 2
G51: 水道用ｆ１マーカー
C52: 16 | E52: ロケーティングマーカー | G52: MK-１W | H52: 個 | I52: 7
M53: =+"【"&E表!$E$7&"】" -> 【富士川町上下水道課】
D54: =IF(B20>9,"（ "&DBCS(FIXED(B20,0))&" ）","（ "&DBCS(FIXED(B20,0))&" ）") -> （ ３ ）
D58: =+"第 "&DBCS(FIXED(B60,0))&" 号内訳明細書" -> 第 １ 号内訳明細書
B59: 内訳番号 | O59: =+"Ｎｏ,"&DBCS(FIXED($B$16,0))&"－"&DBCS(FIXED(B61,0))&" " -> Ｎｏ,１－２
A60: 入力→ | B60: 1
A61: 入力→ | B61: =B17+1 -> 2 | I61: 変 更 前 | L61: 変 更 後 | P61: 一位
D62: 工 種 | E62: 名 称 | F62: 形 状 ・ 寸 法 | H62: 単位 | O62: 備 考 | P62: 代価
B63: 初期頁 | I63: 数 量 | J63: 単 価 | K63: 金 額 | L63: 数 量 | M63: 単 価 | N63: 金 額 | P63: 番号
A64: 入力→ | B64: =B20+1 -> 4
C66: 1 | E66: 管材費 計
C68: 2
C70: 3 | E70: 小計
C72: 4
C74: 5
C76: 6
C78: 7
C80: 8
C82: 9
C84: 9
C86: 12
C88: 10
C90: 8
C92: 16
C94: 11
C96: 15
M97: =+"【"&E表!$E$7&"】" -> 【富士川町上下水道課】
D98: =IF(B64>9,"（ "&DBCS(FIXED(B64,0))&" ）","（ "&DBCS(FIXED(B64,0))&" ）") -> （ ４ ）
D102: =+"第 "&DBCS(FIXED(B104,0))&" 号内訳明細書" -> 第 １ 号内訳明細書
B103: 内訳番号 | O103: =+"Ｎｏ,"&DBCS(FIXED($B$16,0))&"－"&DBCS(FIXED(B105,0))&" " -> Ｎｏ,１－３
A104: 入力→ | B104: 1
A105: 入力→ | B105: =B61+1 -> 3 | I105: 変 更 前 | L105: 変 更 後 | P105: 一位
D106: 工 種 | E106: 名 称 | F106: 形 状 ・ 寸 法 | H106: 単位 | O106: 備 考 | P106: 代価
B107: 初期頁 | I107: 数 量 | J107: 単 価 | K107: 金 額 | L107: 数 量 | M107: 単 価 | N107: 金 額 | P107: 番号
A108: 入力→ | B108: =B64+1 -> 5
C110: 1 | D110: 労務
C112: 2 | E112: ﾎﾟﾘｴﾁﾚﾝ管据付工 | G112: φ75 | H112: ｍ | I112: 93.1
C114: 3 | E114: ﾎﾟﾘｴﾁﾚﾝ管切断工 | G114: φ75 | H114: 口 | I114: 15 | O114: 既設切断含む
G115: 熱融着 EF継手
C116: 4 | E116: ﾎﾟﾘｴﾁﾚﾝ管継手工 | G116: φ75 | H116: 箇所 | I116: 6
G117: 熱融着 EF継手
C118: 5 | E118: ﾎﾟﾘｴﾁﾚﾝ管継手工 | G118: φ75 | H118: 口 | I118: 37
G119: ポリエチレン管
C120: 6 | E120: メカニカル継手工 | G120: φ75 | H120: 口 | I120: 2
G121: 機械力
C122: 7 | E122: 仕切弁設置工 | G122: φ75 | H122: 基 | I122: 2
G123: （ねじ式弁筐）鉄蓋・座台共
C124: 8 | E124: 仕切弁筐設置工 | G124: DP=0.90m用 | H124: 箇所 | I124: 2
G125: RC-40
C126: 9 | E126: 基礎砕石工 | G126: t=10cm | H126: m3 | I126: 0.7
C128: 9 | E128: 管明示ﾃｰﾌﾟ工 | G128: φ75 W=30mm | H128: ｍ | I128: 93.1
G129: ２倍折り込み
C130: 12 | E130: 管明示ｼｰﾄ工（材工） | G130: W=150mm | H130: ｍ | I130: 93.4
C132: 10 | E132: 硬質塩化ビニル管切断工 | G132: φ75 | H132: 口 | I132: 2 | O132: 既設切断
C134: 8
C136: 11 | K136: =IF(I136="","",INT(I136*J136))
C138: 15 | E138: 小計
C140: 16
M141: =+"【"&E表!$E$7&"】" -> 【富士川町上下水道課】
D142: =IF(B108>9,"（ "&DBCS(FIXED(B108,0))&" ）","（ "&DBCS(FIXED(B108,0))&" ）") -> （ ５ ）
D146: =+"第 "&DBCS(FIXED(B148,0))&" 号内訳明細書" -> 第 １ 号内訳明細書
B147: 内訳番号 | O147: =+"Ｎｏ,"&DBCS(FIXED($B$16,0))&"－"&DBCS(FIXED(B149,0))&" " -> Ｎｏ,１－４
A148: 入力→ | B148: 1
A149: 入力→ | B149: =B105+1 -> 4 | I149: 変 更 前 | L149: 変 更 後 | P149: 一位
D150: 工 種 | E150: 名 称 | F150: 形 状 ・ 寸 法 | H150: 単位 | O150: 備 考 | P150: 代価
B151: 初期頁 | I151: 数 量 | J151: 単 価 | K151: 金 額 | L151: 数 量 | M151: 単 価 | N151: 金 額 | P151: 番号
A152: 入力→ | B152: =B108+1 -> 6
C154: 1 | D154: 土工
C156: 2 | E156: 舗装版切断工(As) | G156: t≦15cm | H156: ｍ | I156: 14
...

Sheet ②仮設管工事50，20，13
A1: |
D2: ※印刷･･･70％
D3: ※余白･･･上 1.5 下 0.5 右 1.0 左 1.0
D4: ※水平・垂直･･･合わせる
D9: ↓ 内訳名称入力
D10: 仮設管工事φ50，φ20，φ13
D12: =+" "&$D$10&" 内訳書 " -> 仮設管工事φ50，φ20，φ13 内訳書
D14: =+"第 "&DBCS(FIXED(B16,0))&" 号内訳明細書" -> 第 ２ 号内訳明細書
B15: 内訳番号 | O15: =+"Ｎｏ,"&DBCS(FIXED($B$16,0))&"－"&DBCS(FIXED(B17,0))&" " -> Ｎｏ,２－１
A16: 入力→ | B16: 2
A17: 入力→ | B17: 1 | I17: 変 更 前 | L17: 変 更 後 | P17: 一位
D18: 工 種 | E18: 名 称 | F18: 形 状 ・ 寸 法 | H18: 単位 | O18: 備 考 | P18: 代価
B19: 初期頁 | I19: 数 量 | J19: 単 価 | K19: 金 額 | L19: 数 量 | M19: 単 価 | N19: 金 額 | P19: 番号
A20: 入力→ | B20: ='①配水管布設工事75'!B196+1 -> 8
C22: 1 | D22: 資材
E23: ※3回転用
C24: 2 | E24: 一種二層管 PP | G24: φ50 | H24: ｍ | I24: 81.1
E25: ※3回転用
C26: 3 | E26: 一種二層管 PP | G26: φ20 | H26: ｍ | I26: 58.7
G27: HIVP用
C28: 4 | E28: サドル分水栓 | G28: φ75×φ50 | H28: 基 | I28: 1
E29: ※3回転用 | G29: 伸縮可とう離脱防止継手
C30: 5 | E30: PP用 分止水栓用ソケット | G30: φ50 | H30: 個 | I30: 6
E31: ※3回転用 | G31: 伸縮可とう離脱防止継手
C32: 6 | E32: PP用 分止水栓用ソケット | G32: φ20 | H32: 個 | I32: 12
E33: ※3回転用
C34: 7 | E34: ボール乙止水栓 | G34: φ50 | H34: 基 | I34: 3
E35: ※3回転用
C36: 8 | E36: ボール乙止水栓 | G36: φ20 | H36: 基 | I36: 8
E37: ※3回転用 | G37: 伸縮可とう離脱防止継手
C38: 9 | E38: PP用 エルボ | G38: φ50×90° | H38: 個 | I38: 5
E39: ※3回転用 | G39: 伸縮可とう離脱防止継手
C40: 9 | E40: PP用 エルボ | G40: φ20×90° | H40: 個 | I40: 2
E41: ※3回転用 | G41: 伸縮可とう離脱防止継手
C42: 12 | E42: PP用 チーズ | G42: φ50×φ50 | H42: 個 | I42: 1
E43: ※3回転用 | G43: 伸縮可とう離脱防止継手
C44: 10 | E44: PP用 チーズ | G44: φ50×φ20 | H44: 個 | I44: 3
E45: ※3回転用 | G45: 伸縮可とう離脱防止継手
C46: 15 | E46: PP用 チーズ | G46: φ20×φ20 | H46: 個 | I46: 5
E47: ※3回転用 | G47: 伸縮可とう離脱防止継手
C48: 8 | E48: PP用 メーター用ソケット | G48: φ20×φ13 | H48: 個 | I48: 4
C50: 11 | E50: 閉栓プラグ | G50: φ50 | H50: 個 | I50: 1
G51: VP用
C52: 16 | E52: 管栓帽 | G52: φ75 | H52: 個 | I52: 2
M53: =+"【"&E表!$E$7&"】" -> 【富士川町上下水道課】
D54: =IF(B20>9,"（ "&DBCS(FIXED(B20,0))&" ）","（ "&DBCS(FIXED(B20,0))&" ）") -> （ ８ ）
D58: =+"第 "&DBCS(FIXED(B60,0))&" 号内訳明細書" -> 第 ２ 号内訳明細書
B59: 内訳番号 | O59: =+"Ｎｏ,"&DBCS(FIXED($B$16,0))&"－"&DBCS(FIXED(B61,0))&" " -> Ｎｏ,２－２
A60: 入力→ | B60: =$B$16 -> 2
A61: 入力→ | B61: =B17+1 -> 2 | I61: 変 更 前 | L61: 変 更 後 | P61: 一位
D62: 工 種 | E62: 名 称 | F62: 形 状 ・ 寸 法 | H62: 単位 | O62: 備 考 | P62: 代価
B63: 初期頁 | I63: 数 量 | J63: 単 価 | K63: 金 額 | L63: 数 量 | M63: 単 価 | N63: 金 額 | P63: 番号
A64: 入力→ | B64: =B20+1 -> 9
G65: PP×VP
C66: 1 | E66: PP異形ソケット | G66: φ50 | H66: 個 | I66: 1
C68: 2
C70: 3 | E70: 管材費 計
C72: 4 | E72: 小計
C74: 5
C76: 6
C78: 7
C80: 8
C82: 9
C84: 9
C86: 12
C88: 10
C90: 8
C92: 11
C94: 15
C96: 16
M97: =+"【"&E表!$E$7&"】" -> 【富士川町上下水道課】
D98: =IF(B64>9,"（ "&DBCS(FIXED(B64,0))&" ）","（ "&DBCS(FIXED(B64,0))&" ）") -> （ ９ ）
D102: =+"第 "&DBCS(FIXED(B104,0))&" 号内訳明細書" -> 第 ２ 号内訳明細書
B103: 内訳番号 | O103: =+"Ｎｏ,"&DBCS(FIXED($B$16,0))&"－"&DBCS(FIXED(B105,0))&" " -> Ｎｏ,２－３
A104: 入力→ | B104: =$B$16 -> 2
A105: 入力→ | B105: =B61+1 -> 3 | I105: 変 更 前 | L105: 変 更 後 | P105: 一位
D106: 工 種 | E106: 名 称 | F106: 形 状 ・ 寸 法 | H106: 単位 | O106: 備 考 | P106: 代価
B107: 初期頁 | I107: 数 量 | J107: 単 価 | K107: 金 額 | L107: 数 量 | M107: 単 価 | N107: 金 額 | P107: 番号
A108: 入力→ | B108: =B64+1 -> 10
C110: 1 | D110: 労務 | E110: （仮設管設置時）
C112: 2 | E112: ﾎﾟﾘｴﾁﾚﾝ管布設工 | G112: φ50 | H112: ｍ | I112: 81.1
C114: 6 | E114: ﾎﾟﾘｴﾁﾚﾝ管布設工 | G114: φ20 | H114: ｍ | I114: 58.7
C116: 3 | E116: ﾎﾟﾘｴﾁﾚﾝ管切断工 | G116: φ50 | H116: 口 | I116: 15
C118: 4 | E118: ﾎﾟﾘｴﾁﾚﾝ管切断工 | G118: φ20 | H118: 口 | I118: 27
C120: 5 | E120: ﾎﾟﾘｴﾁﾚﾝ管継手工 | G120: φ50 | H120: 口 | I120: 21
C122: 7 | E122: ﾎﾟﾘｴﾁﾚﾝ管継手工 | G122: φ20 | H122: 口 | I122: 26
G123: HIVP用(設置・接続含む)
C124: 8 | E124: サドル分水栓建込工 | G124: φ75×φ50 | H124: 箇所 | I124: 1
G125: 小口径管用
C126: 9 | E126: 鋼管ねじ込接合工 | G126: φ50 | H126: 口 | I126: 1
G127: 小口径管用
C128: 9 | E128: 鋼管ねじ込接合工 | G128: φ13 | H128: 口 | I128: 4
C130: 12 | E130: 塩化ビニル管継手工 | G130: φ75 | H130: 口 | I130: 2
C132: 10 | E132: 塩化ビニル管切断工 | G132: φ75 | H132: 口 | I132: 2
C134: 8
C136: 11 | E136: 小々計
C138: 15
C140: 16
M141: =+"【"&E表!$E$7&"】" -> 【富士川町上下水道課】
D142: =IF(B108>9,"（ "&DBCS(FIXED(B108,0))&" ）","（ "&DBCS(FIXED(B108,0))&" ）") -> （ １０ ）
...

Sheet ③給水管工事20
A1: |
D2: ※印刷･･･70％
D3: ※余白･･･上 1.5 下 0.5 右 1.0 左 1.0
D4: ※水平・垂直･･･合わせる
D9: ↓ 内訳名称入力
D10: 給水管工事φ20
D12: =+" "&$D$10&" 内訳書 " -> 給水管工事φ20 内訳書
D14: =+"第 "&DBCS(FIXED(B16,0))&" 号内訳明細書" -> 第 ３ 号内訳明細書
B15: 内訳番号 | O15: =+"Ｎｏ,"&DBCS(FIXED($B$16,0))&"－"&DBCS(FIXED(B17,0))&" " -> Ｎｏ,３－１
A16: 入力→ | B16: 3
A17: 入力→ | B17: 1 | I17: 変 更 前 | L17: 変 更 後 | P17: 一位
D18: 工 種 | E18: 名 称 | F18: 形 状 ・ 寸 法 | H18: 単位 | O18: 備 考 | P18: 代価
B19: 初期頁 | I19: 数 量 | J19: 単 価 | K19: 金 額 | L19: 数 量 | M19: 単 価 | N19: 金 額 | P19: 番号
A20: 入力→ | B20: ='②仮設管工事50，20，13'!B193+1 -> 13
C22: 1 | D22: 資材
C24: 2 | E24: 硬質塩化ビニル管 | G24: φ20×4000L | H24: 本 | I24: 5
G25: HPPE用・融着式
C26: 3 | E26: サドル分水栓 | G26: φ75×φ20 | H26: 基 | I26: 6
G27: F×M
C28: 4 | E28: フレキシブル継手 | G28: φ20×600L | H28: 個 | I28: 6
G29: VP用 めねじ
C30: 5 | E30: ロクロ継手 | G30: φ20 | H30: 個 | I30: 6
C32: 6 | E32: HI-TSソケット | G32: φ20 | H32: 個 | I32: 12
C34: 7 | E34: HI-TSエルボ | G34: φ20×90° | H34: 個 | I34: 14
C36: 8 | E36: HI-TSエルボ | G36: φ20×45° | H36: 個 | I36: 2
C38: 12
C40: 9 | E40: 管材費 計
C42: 9 | E42: 小計
C44: 10
C46: 8
C48: 11
C50: 15
C52: 16
M53: =+"【"&E表!$E$7&"】" -> 【富士川町上下水道課】
D54: =IF(B20>9,"（ "&DBCS(FIXED(B20,0))&" ）","（ "&DBCS(FIXED(B20,0))&" ）") -> （ １３ ）
D58: =+"第 "&DBCS(FIXED(B60,0))&" 号内訳明細書" -> 第 ３ 号内訳明細書
B59: 内訳番号 | O59: =+"Ｎｏ,"&DBCS(FIXED($B$16,0))&"－"&DBCS(FIXED(B61,0))&" " -> Ｎｏ,３－２
A60: 入力→ | B60: =$B$16 -> 3
A61: 入力→ | B61: =B17+1 -> 2 | I61: 変 更 前 | L61: 変 更 後 | P61: 一位
D62: 工 種 | E62: 名 称 | F62: 形 状 ・ 寸 法 | H62: 単位 | O62: 備 考 | P62: 代価
B63: 初期頁 | I63: 数 量 | J63: 単 価 | K63: 金 額 | L63: 数 量 | M63: 単 価 | N63: 金 額 | P63: 番号
A64: 入力→ | B64: =B20+1 -> 14
C66: 1 | D66: 労務
C68: 2 | E68: 硬質塩化ビニル管布設工 | G68: φ20 | H68: m | I68: 19.3
C70: 3 | E70: 硬質塩化ビニル管切断工 | G70: φ20 | H70: 口 | I70: 28
C72: 4 | E72: 硬質塩化ビニル管継手工 | G72: φ20 | H72: 口 | I72: 56
G73: HPPE用(設置・接続含む)
C74: 5 | E74: サドル分水栓設置工 | G74: φ75×φ20 | H74: 箇所 | I74: 6
C76: 6
C78: 7 | E78: 小計
C80: 8
C82: 9
C84: 9
C86: 12
C88: 10
C90: 8
C92: 11
C94: 15
C96: 16
M97: =+"【"&E表!$E$7&"】" -> 【富士川町上下水道課】
D98: =IF(B64>9,"（ "&DBCS(FIXED(B64,0))&" ）","（ "&DBCS(FIXED(B64,0))&" ）") -> （ １４ ）
D102: =+"第 "&DBCS(FIXED(B104,0))&" 号内訳明細書" -> 第 ３ 号内訳明細書
B103: 内訳番号 | O103: =+"Ｎｏ,"&DBCS(FIXED($B$16,0))&"－"&DBCS(FIXED(B105,0))&" " -> Ｎｏ,３－３
A104: 入力→ | B104: =$B$16 -> 3
A105: 入力→ | B105: =B61+1 -> 3 | I105: 変 更 前 | L105: 変 更 後 | P105: 一位
D106: 工 種 | E106: 名 称 | F106: 形 状 ・ 寸 法 | H106: 単位 | O106: 備 考 | P106: 代価
B107: 初期頁 | I107: 数 量 | J107: 単 価 | K107: 金 額 | L107: 数 量 | M107: 単 価 | N107: 金 額 | P107: 番号
A108: 入力→ | B108: =B64+1 -> 15
C110: 1 | D110: 土工
C112: 2 | E112: 舗装版切断工(As) | G112: t≦15cm | H112: ｍ | I112: 34
C114: 3 | E114: 舗装版破砕工(As) | G114: t≦10cm | H114: m2 | I114: 10
C116: 4 | E116: 掘削工 | G116: 機械力 BH | H116: m3 | I116: 9
G117: 機械力
C118: 5 | E118: 埋戻工 | G118: 発生土 BH | H118: m3 | I118: 8
G119: 再生クラッシャーラン
C120: 6 | E120: 路盤工 | G120: RC-40 t=10cm | H120: m2 | I120: 10
G121: 再生密粒度
C122: 7 | E122: 舗装工 | G122: As t=5cm 人力 | H122: m2 | I122: 10
G123: 土砂 BH
C124: 8 | E124: 残土処理工 | G124: t車 L= km | H124: m3 | I124: 1
C126: 9 | E126: 残土処分費 | G126: 土砂 | H126: m3 | I126: 1
G127: As塊 BH
C128: 9 | E128: 残土処理工 | G128: t車 L= km | H128: m3 | I128: 1
C130: 12 | E130: 建設廃材処分費 | G130: As塊 | H130: m3 | I130: 1
C132: 10
C134: 8 | E134: 小計
C136: 11
C138: 15 | E138: 合計
C140: 16
M141: =+"【"&E表!$E$7&"】" -> 【富士川町上下水道課】
D142: =IF(B108>9,"（ "&DBCS(FIXED(B108,0))&" ）","（ "&DBCS(FIXED(B108,0))&" ）") -> （ １５ ）

Sheet ④交通誘導員
D2: ※印刷･･･70％
D3: ※余白･･･上 1.5 下 0.5 右 1.0 左 1.0
D4: ※水平・垂直･･･合わせる
D9: ↓ 内訳名称入力
D10: 交通誘導員
D12: =+" "&$D$10&" 内訳書 " -> 交通誘導員 内訳書
D14: =+"第 "&DBCS(FIXED(B16,0))&" 号内訳明細書" -> 第 ４ 号内訳明細書
B15: 内訳番号 | O15: =+"Ｎｏ,"&DBCS(FIXED($B$16,0))&"－"&DBCS(FIXED(B17,0))&" " -> Ｎｏ,４－１
A16: 入力→ | B16: 4
A17: 入力→ | B17: 1 | I17: 変 更 前 | L17: 変 更 後 | P17: 一位
D18: 工 種 | E18: 名 称 | F18: 形 状 ・ 寸 法 | H18: 単位 | O18: 備 考 | P18: 代価
B19: 初期頁 | I19: 数 量 | J19: 単 価 | K19: 金 額 | L19: 数 量 | M19: 単 価 | N19: 金 額 | P19: 番号
A20: 入力→ | B20: ='③給水管工事20'!B108+1 -> 16
C22: 1 | E22: 交通誘導員Ｂ | H22: 人
C24: 2
B25: 日数
A26: 入力→ | C26: 3 | E26: 合計
B27: 人数
A28: 入力→ | C28: 4
B29: 交通誘導員人数
A30: 入力→ | C30: 5
C32: 12
C34: 6
C36: 8
C38: 9
C40: 10
C42: 11
C44: 13
C46: 13
C48: 14
C50: 15
C52: 16
M53: =+"【"&E表!$E$7&"】" -> 【富士川町上下水道課】
D54: =IF(B20>9,"（ "&DBCS(FIXED(B20,0))&" ）","（ "&DBCS(FIXED(B20,0))&" ）") -> （ １６ ）

Sheet 技術管理費
D2: ※印刷･･･70％
D3: ※余白･･･上 1.5 下 0.5 右 1.0 左 1.0
D4: ※水平・垂直･･･合わせる
D9: ↓ 内訳名称入力
D10: 積上技術管理費
D12: =+" "&$D$10&" 内訳書 " -> 積上技術管理費 内訳書
D14: =+B16&"内訳明細書" -> 技術管理費内訳明細書
B15: 内訳番号 | O15: =$B$16&"－"&DBCS(FIXED(B17,0))&" " -> 技術管理費－１
A16: 入力→ | B16: 技術管理費
A17: 入力→ | B17: 1 | I17: 変 更 前 | L17: 変 更 後 | P17: 一位
D18: 工 種 | E18: 名 称 | F18: 形 状 ・ 寸 法 | H18: 単位 | O18: 備 考 | P18: 代価
B19: 初期頁 | I19: 数 量 | J19: 単 価 | K19: 金 額 | L19: 数 量 | M19: 単 価 | N19: 金 額 | P19: 番号
A20: 入力→ | B20: ='④交通誘導員'!B20+1 -> 17
G21: 配水管φ150以下
C22: 1 | E22: 通水試験工 | G22: 既設と接続して給水車が不要 | H22: ｍ | I22: 94.8
C24: 2
C26: 3 | E26: 合計
C28: 4 | K28: =IF(I28="","",INT(I28*J28))
C30: 5 | K30: =IF(I30="","",INT(I30*J30))
C32: 6
C34: 7
C36: 8
C38: 9
C40: 10
C42: 11
C44: 12
C46: 13
C48: 14
C50: 15
C52: 16
M53: =+"【"&E表!$E$7&"】" -> 【富士川町上下水道課】
D54: =IF(B20>9,"（ "&DBCS(FIXED(B20,0))&" ）","（ "&DBCS(FIXED(B20,0))&" ）") -> （ １７ ）
